BEGIN:VCALENDAR
VERSION:2.0
PRODID:-//The Chapel Centre - ECPv6.15.13.1//NONSGML v1.0//EN
CALSCALE:GREGORIAN
METHOD:PUBLISH
X-WR-CALNAME:The Chapel Centre
X-ORIGINAL-URL:https://thechapelcentre.arilena.co.uk
X-WR-CALDESC:Events for The Chapel Centre
REFRESH-INTERVAL;VALUE=DURATION:PT1H
X-Robots-Tag:noindex
X-PUBLISHED-TTL:PT1H
BEGIN:VTIMEZONE
TZID:UTC
BEGIN:STANDARD
TZOFFSETFROM:+0000
TZOFFSETTO:+0000
TZNAME:UTC
DTSTART:20260101T000000
END:STANDARD
END:VTIMEZONE
BEGIN:VEVENT
DTSTART;TZID=UTC:20271102T080000
DTEND;TZID=UTC:20271102T170000
DTSTAMP:20260421T101908
CREATED:20250103T210500Z
LAST-MODIFIED:20260108T020427Z
UID:39570-1825142400-1825174800@thechapelcentre.arilena.co.uk
SUMMARY:Ladies Bible Study
DESCRIPTION:Monthly | 10:00 AM – 12:00 PM Once a month\, we gather for Cuppa & Chat —a relaxed morning with tea\, coffee\, and some truly legendary cake. It’s a space to enjoy good company\, share a laugh\, and connect with others. While it’s a favourite for our regulars\, everyone is welcome—whether you’re looking for friendship\, a little community spirit\, or just a mid-morning break from work.
URL:https://thechapelcentre.arilena.co.uk/event/ladies-bible-study/
LOCATION:The Chapel Center\, Brook Lane\, Billesdon\, United Kingdom\, Billesdon\, United Kingdom
CATEGORIES:Faith & Friendship
ATTACH;FMTTYPE=image/png:https://thechapelcentre.arilena.co.uk/wp-content/uploads/2025/01/Home-page-slide-show-events-6.png
ORGANIZER;CN="The Chapel Center":MAILTO:pastor@thechapelcentre.org.uk
END:VEVENT
BEGIN:VEVENT
DTSTART;TZID=UTC:20271105T080000
DTEND;TZID=UTC:20271105T170000
DTSTAMP:20260421T101909
CREATED:20250105T210512Z
LAST-MODIFIED:20260108T020320Z
UID:39572-1825401600-1825434000@thechapelcentre.arilena.co.uk
SUMMARY:The Mancave
DESCRIPTION:Monthly | 10:00 AM – 12:00 PM Once a month\, we gather for Cuppa & Chat —a relaxed morning with tea\, coffee\, and some truly legendary cake. It’s a space to enjoy good company\, share a laugh\, and connect with others. While it’s a favourite for our regulars\, everyone is welcome—whether you’re looking for friendship\, a little community spirit\, or just a mid-morning break from work.
URL:https://thechapelcentre.arilena.co.uk/event/the-mancave/
LOCATION:The Chapel Center\, Brook Lane\, Billesdon\, United Kingdom\, Billesdon\, United Kingdom
CATEGORIES:Faith & Friendship
ATTACH;FMTTYPE=image/png:https://thechapelcentre.arilena.co.uk/wp-content/uploads/2025/01/Home-page-slide-show-events-5.png
ORGANIZER;CN="The Chapel Center":MAILTO:pastor@thechapelcentre.org.uk
END:VEVENT
BEGIN:VEVENT
DTSTART;TZID=UTC:20271110T103000
DTEND;TZID=UTC:20271110T170000
DTSTAMP:20260421T101909
CREATED:20250107T210523Z
LAST-MODIFIED:20260311T124938Z
UID:39574-1825842600-1825866000@thechapelcentre.arilena.co.uk
SUMMARY:Collective Worship
DESCRIPTION:Monthly | 10:00 AM – 12:00 PM Once a month\, we gather for Cuppa & Chat —a relaxed morning with tea\, coffee\, and some truly legendary cake. It’s a space to enjoy good company\, share a laugh\, and connect with others. While it’s a favourite for our regulars\, everyone is welcome—whether you’re looking for friendship\, a little community spirit\, or just a mid-morning break from work.
URL:https://thechapelcentre.arilena.co.uk/event/collective-worship/
LOCATION:The Chapel Center\, Brook Lane\, Billesdon\, United Kingdom\, Billesdon\, United Kingdom
CATEGORIES:Community
ATTACH;FMTTYPE=image/png:https://thechapelcentre.arilena.co.uk/wp-content/uploads/2025/01/Collective-worship-schools.png
ORGANIZER;CN="The Chapel Center":MAILTO:pastor@thechapelcentre.org.uk
END:VEVENT
BEGIN:VEVENT
DTSTART;TZID=UTC:20271116T100000
DTEND;TZID=UTC:20271116T170000
DTSTAMP:20260421T101909
CREATED:20250110T210535Z
LAST-MODIFIED:20260218T052241Z
UID:39576-1826359200-1826384400@thechapelcentre.arilena.co.uk
SUMMARY:Sunny Days
DESCRIPTION:Monthly | 10:00 AM – 12:00 PM Once a month\, we gather for Cuppa & Chat —a relaxed morning with tea\, coffee\, and some truly legendary cake. It’s a space to enjoy good company\, share a laugh\, and connect with others. While it’s a favourite for our regulars\, everyone is welcome—whether you’re looking for friendship\, a little community spirit\, or just a mid-morning break from work.
URL:https://thechapelcentre.arilena.co.uk/event/sunny-days/
LOCATION:The Chapel Center\, Brook Lane\, Billesdon\, United Kingdom\, Billesdon\, United Kingdom
CATEGORIES:Community
ATTACH;FMTTYPE=image/png:https://thechapelcentre.arilena.co.uk/wp-content/uploads/2025/01/Home-page-slide-show-events-3.png
ORGANIZER;CN="The Chapel Center":MAILTO:pastor@thechapelcentre.org.uk
END:VEVENT
END:VCALENDAR